BEGIN:VCALENDAR
VERSION:2.0
PRODID:-//Travel Avoyelles - ECPv6.14.2//NONSGML v1.0//EN
CALSCALE:GREGORIAN
METHOD:PUBLISH
X-ORIGINAL-URL:https://travelavoyelles.com
X-WR-CALDESC:Events for Travel Avoyelles
REFRESH-INTERVAL;VALUE=DURATION:PT1H
X-Robots-Tag:noindex
X-PUBLISHED-TTL:PT1H
BEGIN:VTIMEZONE
TZID:UTC
BEGIN:STANDARD
TZOFFSETFROM:+0000
TZOFFSETTO:+0000
TZNAME:UTC
DTSTART:20230101T000000
END:STANDARD
END:VTIMEZONE
BEGIN:VEVENT
DTSTART;TZID=UTC:20230818T200000
DTEND;TZID=UTC:20230818T220000
DTSTAMP:20260424T192804
CREATED:20230731T200849Z
LAST-MODIFIED:20230731T200849Z
UID:11000031-1692388800-1692396000@travelavoyelles.com
SUMMARY:Charley Rivers Concert
DESCRIPTION:Fifth Ward Community Center \n8:00 PM – 10:00 PM
URL:https://travelavoyelles.com/event/charley-rivers-concert/
LOCATION:Fifth Ward Community Center\, 152 School house Road\, Marksville\, LA\, 71351\, United States
END:VEVENT
BEGIN:VEVENT
DTSTART;TZID=UTC:20230624T170000
DTEND;TZID=UTC:20230624T170000
DTSTAMP:20260424T192804
CREATED:20230601T151511Z
LAST-MODIFIED:20230601T151522Z
UID:11000028-1687626000-1687626000@travelavoyelles.com
SUMMARY:Bourré Tournament
DESCRIPTION:Join us for a bourré tournament at the Fifth Ward Community Center! \nCall 318-305-7793 for details.
URL:https://travelavoyelles.com/event/bourre-tournament/
LOCATION:Fifth Ward Community Center\, 152 School house Road\, Marksville\, LA\, 71351\, United States
END:VEVENT
BEGIN:VEVENT
DTSTART;TZID=UTC:20230610T190000
DTEND;TZID=UTC:20230610T213000
DTSTAMP:20260424T192804
CREATED:20230601T145535Z
LAST-MODIFIED:20230601T145649Z
UID:11000025-1686423600-1686432600@travelavoyelles.com
SUMMARY:High Voltage Pro Wrestling
DESCRIPTION:United Wrestling Entertainment (UWE) returns to Fifth Ward\, LA ! UWE will be bringing you the same ACTION-PACKED excitement as before! This is a family friendly event. \nGet your tickets today – Come see UWE’s great talent. UWE Heavyweight Champion – The Groovy King Eddie Love\, UWE Tag Team Champions – The New York Express\, Mark Von Erich\, Cowboy Cliff Rogers\, Xavier Storms\, Legendary Hall Of Fame Referee- James Beard and many more. \nThank you to ALL our Sponsors: Big Truck Insurance\, LA 103.5\, KnifeWorks.
URL:https://travelavoyelles.com/event/high-voltage-pro-wrestling/
LOCATION:Fifth Ward Community Center\, 152 School house Road\, Marksville\, LA\, 71351\, United States
ATTACH;FMTTYPE=image/jpeg:https://travelavoyelles.com/wp-content/uploads/2023/06/350111516_276339971500778_8747833324856047402_n.jpeg
END:VEVENT
END:VCALENDAR